Package: RegionalST Version: 1.4.2 Command: F:\biocbuild\bbs-3.20-bioc\R\bin\R.exe CMD INSTALL RegionalST StartedAt: 2025-02-03 17:13:11 -0500 (Mon, 03 Feb 2025) EndedAt: 2025-02-03 17:13:49 -0500 (Mon, 03 Feb 2025) EllapsedTime: 37.8 seconds RetCode: 0 Status: OK