Package: RegionalST Version: 1.4.2 Command: /home/biocbuild/R/R/bin/R CMD build --keep-empty-dirs --no-resave-data RegionalST StartedAt: 2025-02-11 01:50:30 -0000 (Tue, 11 Feb 2025) EndedAt: 2025-02-11 02:30:30 -0000 (Tue, 11 Feb 2025) EllapsedTime: 2400.9 seconds RetCode: None Status: TIMEOUT PackageFile: None PackageFileSize: NA