Package: RegionalST Version: 1.4.2 Command: /home/biocbuild/R/R/bin/R CMD INSTALL RegionalST StartedAt: 2025-02-03 21:25:22 -0000 (Mon, 03 Feb 2025) EndedAt: 2025-02-03 21:25:54 -0000 (Mon, 03 Feb 2025) EllapsedTime: 32.7 seconds RetCode: 0 Status: OK