Package: Repitools Version: 1.52.0 Command: /Library/Frameworks/R.framework/Resources/bin/R CMD INSTALL Repitools StartedAt: 2025-02-10 16:16:30 -0500 (Mon, 10 Feb 2025) EndedAt: 2025-02-10 16:17:16 -0500 (Mon, 10 Feb 2025) EllapsedTime: 46.3 seconds RetCode: 0 Status: OK