Package: Repitools Version: 1.52.0 Command: rm -rf Repitools.buildbin-libdir && mkdir Repitools.buildbin-libdir && /Users/biocbuild/BBS/utils/build-universal.sh Repitools_1.52.0.tar.gz /Library/Frameworks/R.framework/Resources/bin/R Repitools.buildbin-libdir StartedAt: 2025-02-04 13:58:13 -0500 (Tue, 04 Feb 2025) EndedAt: 2025-02-04 14:00:36 -0500 (Tue, 04 Feb 2025) EllapsedTime: 143.1 seconds RetCode: 0 Status: OK PackageFile: Repitools_1.52.0.tgz PackageFileSize: 2.489 MiB