Package: Repitools Version: 1.52.0 Command: /Library/Frameworks/R.framework/Resources/bin/R CMD check --install=check:Repitools.install-out.txt --library=/Library/Frameworks/R.framework/Resources/library --no-vignettes --timings Repitools_1.52.0.tar.gz StartedAt: 2025-02-04 08:47:25 -0500 (Tue, 04 Feb 2025) EndedAt: 2025-02-04 09:00:32 -0500 (Tue, 04 Feb 2025) EllapsedTime: 787.3 seconds RetCode: 0 Status: WARNINGS CheckDir: Repitools.Rcheck Warnings: 1