Package: Repitools Version: 1.52.0 Command: /home/biocbuild/bbs-3.20-bioc/R/bin/R CMD build --keep-empty-dirs --no-resave-data --md5 Repitools StartedAt: 2025-02-03 18:57:14 -0500 (Mon, 03 Feb 2025) EndedAt: 2025-02-03 18:58:05 -0500 (Mon, 03 Feb 2025) EllapsedTime: 51.0 seconds RetCode: 0 Status: OK PackageFile: Repitools_1.52.0.tar.gz PackageFileSize: 1.693 MiB