Package: Repitools Version: 1.52.0 Command: chmod a+r Repitools -R && F:\biocbuild\bbs-3.20-bioc\R\bin\R.exe CMD build --keep-empty-dirs --no-resave-data Repitools StartedAt: 2025-02-10 21:31:03 -0500 (Mon, 10 Feb 2025) EndedAt: 2025-02-10 21:34:02 -0500 (Mon, 10 Feb 2025) EllapsedTime: 179.9 seconds RetCode: 0 Status: OK PackageFile: Repitools_1.52.0.tar.gz PackageFileSize: 1.562 MiB