Package: Rfastp Version: 1.16.0 Command: rm -rf Rfastp.buildbin-libdir && mkdir Rfastp.buildbin-libdir && /Users/biocbuild/BBS/utils/build-universal.sh Rfastp_1.16.0.tar.gz /Library/Frameworks/R.framework/Resources/bin/R Rfastp.buildbin-libdir StartedAt: 2025-02-01 16:28:00 -0500 (Sat, 01 Feb 2025) EndedAt: 2025-02-01 16:29:22 -0500 (Sat, 01 Feb 2025) EllapsedTime: 81.9 seconds RetCode: 0 Status: OK PackageFile: Rfastp_1.16.0.tgz PackageFileSize: 2.802 MiB