Package: Rfastp Version: 1.16.0 Command: /Library/Frameworks/R.framework/Resources/bin/R CMD build --keep-empty-dirs --no-resave-data Rfastp StartedAt: 2025-01-31 06:23:08 -0500 (Fri, 31 Jan 2025) EndedAt: 2025-01-31 06:24:36 -0500 (Fri, 31 Jan 2025) EllapsedTime: 88.4 seconds RetCode: 0 Status: OK PackageFile: Rfastp_1.16.0.tar.gz PackageFileSize: 2.7 MiB