Package: Rfastp Version: 1.16.0 Command: /Library/Frameworks/R.framework/Resources/bin/R CMD INSTALL Rfastp StartedAt: 2025-01-30 15:14:53 -0500 (Thu, 30 Jan 2025) EndedAt: 2025-01-30 15:17:35 -0500 (Thu, 30 Jan 2025) EllapsedTime: 162.6 seconds RetCode: 0 Status: OK