Package: RgnTX Version: 1.8.0 Maintainer: Yue Wang MaintainerEmail: yue.wang19 at student.xjtlu.edu.cn git_url: https://git.bioconductor.org/packages/RgnTX git_branch: RELEASE_3_20 git_last_commit: 6c2f504 git_last_commit_date: 2024-10-29 11:12:11 -0500 (Tue, 29 Oct 2024)