Package: RgnTX Version: 1.8.0 Command: rm -rf RgnTX.buildbin-libdir && mkdir RgnTX.buildbin-libdir && /Users/biocbuild/BBS/utils/build-universal.sh RgnTX_1.8.0.tar.gz /Library/Frameworks/R.framework/Resources/bin/R RgnTX.buildbin-libdir StartedAt: 2025-02-05 17:23:36 -0500 (Wed, 05 Feb 2025) EndedAt: 2025-02-05 17:24:26 -0500 (Wed, 05 Feb 2025) EllapsedTime: 49.3 seconds RetCode: 0 Status: OK PackageFile: RgnTX_1.8.0.tgz PackageFileSize: 2.701 MiB