Package: RgnTX Version: 1.8.0 Command: /Library/Frameworks/R.framework/Resources/bin/R CMD INSTALL RgnTX StartedAt: 2025-02-03 16:07:51 -0500 (Mon, 03 Feb 2025) EndedAt: 2025-02-03 16:08:39 -0500 (Mon, 03 Feb 2025) EllapsedTime: 47.9 seconds RetCode: 0 Status: OK