Package: RgnTX Version: 1.8.0 Command: /home/biocbuild/bbs-3.20-bioc/R/bin/R CMD INSTALL RgnTX StartedAt: 2025-01-30 15:22:51 -0500 (Thu, 30 Jan 2025) EndedAt: 2025-01-30 15:23:30 -0500 (Thu, 30 Jan 2025) EllapsedTime: 38.8 seconds RetCode: 0 Status: OK