Package: RgnTX Version: 1.8.0 Command: F:\biocbuild\bbs-3.20-bioc\R\bin\R.exe CMD INSTALL RgnTX StartedAt: 2025-01-30 16:17:52 -0500 (Thu, 30 Jan 2025) EndedAt: 2025-01-30 16:18:49 -0500 (Thu, 30 Jan 2025) EllapsedTime: 57.5 seconds RetCode: 0 Status: OK