Package: Rgraphviz Version: 2.50.0 Command: /Library/Frameworks/R.framework/Resources/bin/R CMD build --keep-empty-dirs --no-resave-data Rgraphviz StartedAt: 2025-02-04 06:34:36 -0500 (Tue, 04 Feb 2025) EndedAt: 2025-02-04 06:37:50 -0500 (Tue, 04 Feb 2025) EllapsedTime: 193.5 seconds RetCode: 0 Status: OK PackageFile: Rgraphviz_2.50.0.tar.gz PackageFileSize: 7.329 MiB