Package: Rgraphviz Version: 2.50.0 Command: /Library/Frameworks/R.framework/Resources/bin/R CMD check --install=check:Rgraphviz.install-out.txt --library=/Library/Frameworks/R.framework/Resources/library --no-vignettes --timings Rgraphviz_2.50.0.tar.gz StartedAt: 2025-02-05 07:23:46 -0500 (Wed, 05 Feb 2025) EndedAt: 2025-02-05 07:24:36 -0500 (Wed, 05 Feb 2025) EllapsedTime: 50.4 seconds RetCode: 0 Status: WARNINGS CheckDir: Rgraphviz.Rcheck Warnings: 2