Package: Rgraphviz Version: 2.50.0 Command: /Library/Frameworks/R.framework/Resources/bin/R CMD INSTALL Rgraphviz StartedAt: 2025-02-03 15:14:44 -0500 (Mon, 03 Feb 2025) EndedAt: 2025-02-03 15:17:17 -0500 (Mon, 03 Feb 2025) EllapsedTime: 152.8 seconds RetCode: 0 Status: OK