Package: Rgraphviz Version: 2.50.0 Command: rm -rf Rgraphviz.buildbin-libdir && mkdir Rgraphviz.buildbin-libdir && /Users/biocbuild/BBS/utils/build-universal.sh Rgraphviz_2.50.0.tar.gz /Library/Frameworks/R.framework/Resources/bin/R Rgraphviz.buildbin-libdir StartedAt: 2025-01-31 13:30:56 -0500 (Fri, 31 Jan 2025) EndedAt: 2025-01-31 13:35:33 -0500 (Fri, 31 Jan 2025) EllapsedTime: 277.0 seconds RetCode: 0 Status: OK PackageFile: Rgraphviz_2.50.0.tgz PackageFileSize: 1.759 MiB