Package: Rgraphviz Version: 2.50.0 Command: rm -rf Rgraphviz.buildbin-libdir && mkdir Rgraphviz.buildbin-libdir && F:\biocbuild\bbs-3.20-bioc\R\bin\R.exe CMD INSTALL --build --library=Rgraphviz.buildbin-libdir Rgraphviz_2.50.0.tar.gz StartedAt: 2025-02-04 09:20:07 -0500 (Tue, 04 Feb 2025) EndedAt: 2025-02-04 09:32:11 -0500 (Tue, 04 Feb 2025) EllapsedTime: 724.1 seconds RetCode: 0 Status: OK PackageFile: Rgraphviz_2.50.0.zip PackageFileSize: 1.39 MiB