Package: Rgraphviz Version: 2.50.0 Command: F:\biocbuild\bbs-3.20-bioc\R\bin\R.exe CMD check --no-multiarch --install=check:Rgraphviz.install-out.txt --library=F:\biocbuild\bbs-3.20-bioc\R\library --no-vignettes --timings Rgraphviz_2.50.0.tar.gz StartedAt: 2025-02-11 05:26:23 -0500 (Tue, 11 Feb 2025) EndedAt: 2025-02-11 05:27:49 -0500 (Tue, 11 Feb 2025) EllapsedTime: 86.6 seconds RetCode: 0 Status: WARNINGS CheckDir: Rgraphviz.Rcheck Warnings: 1