Package: Rgraphviz Version: 2.50.0 Command: F:\biocbuild\bbs-3.20-bioc\R\bin\R.exe CMD INSTALL Rgraphviz StartedAt: 2025-02-03 15:38:07 -0500 (Mon, 03 Feb 2025) EndedAt: 2025-02-03 16:00:04 -0500 (Mon, 03 Feb 2025) EllapsedTime: 1317.5 seconds RetCode: 0 Status: OK