Package: Rgraphviz Version: 2.50.0 Command: /home/biocbuild/R/R/bin/R CMD build --keep-empty-dirs --no-resave-data Rgraphviz StartedAt: 2025-02-04 02:14:30 -0000 (Tue, 04 Feb 2025) EndedAt: 2025-02-04 02:16:28 -0000 (Tue, 04 Feb 2025) EllapsedTime: 118.1 seconds RetCode: 0 Status: OK PackageFile: Rgraphviz_2.50.0.tar.gz PackageFileSize: 7.318 MiB