Package: Rhdf5lib Version: 1.28.0 Command: /Library/Frameworks/R.framework/Resources/bin/R CMD INSTALL Rhdf5lib StartedAt: 2025-02-03 15:10:51 -0500 (Mon, 03 Feb 2025) EndedAt: 2025-02-03 15:15:25 -0500 (Mon, 03 Feb 2025) EllapsedTime: 274.0 seconds RetCode: 0 Status: OK