Package: Rhdf5lib Version: 1.28.0 Command: /Library/Frameworks/R.framework/Resources/bin/R CMD check --install=check:Rhdf5lib.install-out.txt --library=/Library/Frameworks/R.framework/Resources/library --no-vignettes --timings Rhdf5lib_1.28.0.tar.gz StartedAt: 2025-02-04 08:57:04 -0500 (Tue, 04 Feb 2025) EndedAt: 2025-02-04 08:57:46 -0500 (Tue, 04 Feb 2025) EllapsedTime: 42.0 seconds RetCode: 0 Status: WARNINGS CheckDir: Rhdf5lib.Rcheck Warnings: 1