Package: Rhdf5lib Version: 1.28.0 Command: /home/biocbuild/bbs-3.20-bioc/R/bin/R CMD check --install=check:Rhdf5lib.install-out.txt --library=/home/biocbuild/bbs-3.20-bioc/R/site-library --timings Rhdf5lib_1.28.0.tar.gz StartedAt: 2025-02-04 01:47:26 -0500 (Tue, 04 Feb 2025) EndedAt: 2025-02-04 01:47:45 -0500 (Tue, 04 Feb 2025) EllapsedTime: 19.0 seconds RetCode: 0 Status: WARNINGS CheckDir: Rhdf5lib.Rcheck Warnings: 1