Package: Rhdf5lib Version: 1.28.0 Command: /home/biocbuild/bbs-3.20-bioc/R/bin/R CMD INSTALL Rhdf5lib StartedAt: 2025-02-03 15:13:46 -0500 (Mon, 03 Feb 2025) EndedAt: 2025-02-03 15:17:31 -0500 (Mon, 03 Feb 2025) EllapsedTime: 224.5 seconds RetCode: 0 Status: OK