Package: Rhdf5lib Version: 1.28.0 Command: /home/biocbuild/R/R/bin/R CMD INSTALL Rhdf5lib StartedAt: 2025-02-10 20:09:04 -0000 (Mon, 10 Feb 2025) EndedAt: 2025-02-10 20:14:13 -0000 (Mon, 10 Feb 2025) EllapsedTime: 309.0 seconds RetCode: 0 Status: OK