Package: Rhtslib Version: 3.2.0 Command: /home/biocbuild/bbs-3.20-bioc/R/bin/R CMD check --install=check:Rhtslib.install-out.txt --library=/home/biocbuild/bbs-3.20-bioc/R/site-library --timings Rhtslib_3.2.0.tar.gz StartedAt: 2025-02-04 01:47:45 -0500 (Tue, 04 Feb 2025) EndedAt: 2025-02-04 01:48:02 -0500 (Tue, 04 Feb 2025) EllapsedTime: 17.0 seconds RetCode: 0 Status: OK CheckDir: Rhtslib.Rcheck Warnings: 0