Package: Rhtslib Version: 3.2.0 Command: /home/biocbuild/bbs-3.20-bioc/R/bin/R CMD INSTALL Rhtslib StartedAt: 2025-02-03 15:16:47 -0500 (Mon, 03 Feb 2025) EndedAt: 2025-02-03 15:18:15 -0500 (Mon, 03 Feb 2025) EllapsedTime: 88.4 seconds RetCode: 0 Status: OK