Package: Rhtslib Version: 3.2.0 Command: set _R_INSTALL_TIME_PATCHES_=no&& chmod a+r Rhtslib -R && F:\biocbuild\bbs-3.20-bioc\R\bin\R.exe CMD build --keep-empty-dirs --no-resave-data Rhtslib StartedAt: 2025-02-03 21:40:58 -0500 (Mon, 03 Feb 2025) EndedAt: 2025-02-03 21:43:46 -0500 (Mon, 03 Feb 2025) EllapsedTime: 168.2 seconds RetCode: 0 Status: OK PackageFile: Rhtslib_3.2.0.tar.gz PackageFileSize: 4.908 MiB