Package: Rhtslib Version: 3.2.0 Command: set _R_INSTALL_TIME_PATCHES_=no&& F:\biocbuild\bbs-3.20-bioc\R\bin\R.exe CMD INSTALL Rhtslib StartedAt: 2025-02-10 15:33:19 -0500 (Mon, 10 Feb 2025) EndedAt: 2025-02-10 15:35:09 -0500 (Mon, 10 Feb 2025) EllapsedTime: 109.9 seconds RetCode: 0 Status: OK