Package: Rhtslib Version: 3.2.0 Command: /home/biocbuild/R/R/bin/R CMD check --install=check:Rhtslib.install-out.txt --library=/home/biocbuild/R/R/site-library --no-vignettes --timings Rhtslib_3.2.0.tar.gz StartedAt: 2025-02-11 09:45:19 -0000 (Tue, 11 Feb 2025) EndedAt: 2025-02-11 09:45:36 -0000 (Tue, 11 Feb 2025) EllapsedTime: 17.0 seconds RetCode: 0 Status: OK CheckDir: Rhtslib.Rcheck Warnings: 0