Package: RiboDiPA Version: 1.14.0 Command: rm -rf RiboDiPA.buildbin-libdir && mkdir RiboDiPA.buildbin-libdir && /Users/biocbuild/BBS/utils/build-universal.sh RiboDiPA_1.14.0.tar.gz /Library/Frameworks/R.framework/Resources/bin/R RiboDiPA.buildbin-libdir StartedAt: 2025-02-04 13:59:55 -0500 (Tue, 04 Feb 2025) EndedAt: 2025-02-04 14:02:37 -0500 (Tue, 04 Feb 2025) EllapsedTime: 161.7 seconds RetCode: 0 Status: OK PackageFile: RiboDiPA_1.14.0.tgz PackageFileSize: 1.624 MiB