Package: RiboDiPA Version: 1.14.0 Command: /Library/Frameworks/R.framework/Resources/bin/R CMD build --keep-empty-dirs --no-resave-data RiboDiPA StartedAt: 2025-02-03 21:43:06 -0500 (Mon, 03 Feb 2025) EndedAt: 2025-02-03 21:53:52 -0500 (Mon, 03 Feb 2025) EllapsedTime: 645.7 seconds RetCode: 0 Status: OK PackageFile: RiboDiPA_1.14.0.tar.gz PackageFileSize: 1.816 MiB