Package: RiboDiPA Version: 1.14.0 Command: /home/biocbuild/bbs-3.20-bioc/R/bin/R CMD build --keep-empty-dirs --no-resave-data --md5 RiboDiPA StartedAt: 2025-02-03 18:59:36 -0500 (Mon, 03 Feb 2025) EndedAt: 2025-02-03 19:05:16 -0500 (Mon, 03 Feb 2025) EllapsedTime: 339.4 seconds RetCode: 0 Status: OK PackageFile: RiboDiPA_1.14.0.tar.gz PackageFileSize: 1.757 MiB