Package: RiboDiPA Version: 1.14.0 Command: /home/biocbuild/bbs-3.20-bioc/R/bin/R CMD check --install=check:RiboDiPA.install-out.txt --library=/home/biocbuild/bbs-3.20-bioc/R/site-library --timings RiboDiPA_1.14.0.tar.gz StartedAt: 2025-02-11 01:38:35 -0500 (Tue, 11 Feb 2025) EndedAt: 2025-02-11 01:56:18 -0500 (Tue, 11 Feb 2025) EllapsedTime: 1062.3 seconds RetCode: 0 Status: OK CheckDir: RiboDiPA.Rcheck Warnings: 0