Package: RiboDiPA Version: 1.14.0 Command: rm -rf RiboDiPA.buildbin-libdir && mkdir RiboDiPA.buildbin-libdir && F:\biocbuild\bbs-3.20-bioc\R\bin\R.exe CMD INSTALL --build --library=RiboDiPA.buildbin-libdir RiboDiPA_1.14.0.tar.gz StartedAt: 2025-02-04 09:20:41 -0500 (Tue, 04 Feb 2025) EndedAt: 2025-02-04 09:21:57 -0500 (Tue, 04 Feb 2025) EllapsedTime: 75.8 seconds RetCode: 0 Status: OK PackageFile: RiboDiPA_1.14.0.zip PackageFileSize: 1.598 MiB