Package: RiboDiPA Version: 1.14.0 Command: chmod a+r RiboDiPA -R && F:\biocbuild\bbs-3.20-bioc\R\bin\R.exe CMD build --keep-empty-dirs --no-resave-data RiboDiPA StartedAt: 2025-02-03 21:41:29 -0500 (Mon, 03 Feb 2025) EndedAt: 2025-02-03 21:48:49 -0500 (Mon, 03 Feb 2025) EllapsedTime: 439.1 seconds RetCode: 0 Status: OK PackageFile: RiboDiPA_1.14.0.tar.gz PackageFileSize: 1.572 MiB