Package: RiboDiPA Version: 1.14.0 Command: F:\biocbuild\bbs-3.20-bioc\R\bin\R.exe CMD INSTALL RiboDiPA StartedAt: 2025-02-03 16:39:14 -0500 (Mon, 03 Feb 2025) EndedAt: 2025-02-03 16:40:13 -0500 (Mon, 03 Feb 2025) EllapsedTime: 59.4 seconds RetCode: 0 Status: OK