Package: RiboDiPA Version: 1.14.0 Command: /home/biocbuild/R/R/bin/R CMD build --keep-empty-dirs --no-resave-data RiboDiPA StartedAt: 2025-02-04 02:15:58 -0000 (Tue, 04 Feb 2025) EndedAt: 2025-02-04 02:24:03 -0000 (Tue, 04 Feb 2025) EllapsedTime: 484.5 seconds RetCode: 0 Status: OK PackageFile: RiboDiPA_1.14.0.tar.gz PackageFileSize: 1.606 MiB