Package: RiboDiPA Version: 1.14.0 Command: /home/biocbuild/R/R/bin/R CMD check --install=check:RiboDiPA.install-out.txt --library=/home/biocbuild/R/R/site-library --no-vignettes --timings RiboDiPA_1.14.0.tar.gz StartedAt: 2025-02-04 10:24:39 -0000 (Tue, 04 Feb 2025) EndedAt: 2025-02-04 10:41:38 -0000 (Tue, 04 Feb 2025) EllapsedTime: 1018.6 seconds RetCode: 0 Status: OK CheckDir: RiboDiPA.Rcheck Warnings: 0