Package: RiboProfiling Version: 1.36.0 Command: /Library/Frameworks/R.framework/Resources/bin/R CMD build --keep-empty-dirs --no-resave-data RiboProfiling StartedAt: 2025-02-03 21:43:08 -0500 (Mon, 03 Feb 2025) EndedAt: 2025-02-03 21:49:41 -0500 (Mon, 03 Feb 2025) EllapsedTime: 393.6 seconds RetCode: 0 Status: OK PackageFile: RiboProfiling_1.36.0.tar.gz PackageFileSize: 4.659 MiB