Package: RiboProfiling Version: 1.36.0 Command: F:\biocbuild\bbs-3.20-bioc\R\bin\R.exe CMD INSTALL RiboProfiling StartedAt: 2025-02-03 17:00:14 -0500 (Mon, 03 Feb 2025) EndedAt: 2025-02-03 17:01:23 -0500 (Mon, 03 Feb 2025) EllapsedTime: 69.2 seconds RetCode: 0 Status: OK