Package: RiboProfiling Version: 1.36.0 Command: /home/biocbuild/R/R/bin/R CMD check --install=check:RiboProfiling.install-out.txt --library=/home/biocbuild/R/R/site-library --no-vignettes --timings RiboProfiling_1.36.0.tar.gz StartedAt: 2025-01-31 09:42:37 -0000 (Fri, 31 Jan 2025) EndedAt: 2025-01-31 09:55:02 -0000 (Fri, 31 Jan 2025) EllapsedTime: 745.6 seconds RetCode: 0 Status: WARNINGS CheckDir: RiboProfiling.Rcheck Warnings: 1