Package: RnBeads Version: 2.24.0 Command: /Library/Frameworks/R.framework/Resources/bin/R CMD INSTALL RnBeads StartedAt: 2025-02-10 18:09:05 -0500 (Mon, 10 Feb 2025) EndedAt: 2025-02-10 18:10:39 -0500 (Mon, 10 Feb 2025) EllapsedTime: 94.2 seconds RetCode: 0 Status: OK