Package: RnBeads Version: 2.24.0 Command: rm -rf RnBeads.buildbin-libdir && mkdir RnBeads.buildbin-libdir && /Users/biocbuild/BBS/utils/build-universal.sh RnBeads_2.24.0.tar.gz /Library/Frameworks/R.framework/Resources/bin/R RnBeads.buildbin-libdir StartedAt: 2025-01-31 13:33:36 -0500 (Fri, 31 Jan 2025) EndedAt: 2025-01-31 13:36:53 -0500 (Fri, 31 Jan 2025) EllapsedTime: 197.2 seconds RetCode: 0 Status: OK PackageFile: RnBeads_2.24.0.tgz PackageFileSize: 7.904 MiB