Package: RnBeads Version: 2.24.0 Command: /Library/Frameworks/R.framework/Resources/bin/R CMD build --keep-empty-dirs --no-resave-data RnBeads StartedAt: 2025-02-10 21:50:18 -0500 (Mon, 10 Feb 2025) EndedAt: 2025-02-10 21:55:45 -0500 (Mon, 10 Feb 2025) EllapsedTime: 326.9 seconds RetCode: 0 Status: OK PackageFile: RnBeads_2.24.0.tar.gz PackageFileSize: 7.564 MiB