Package: RnBeads Version: 2.24.0 Command: F:\biocbuild\bbs-3.20-bioc\R\bin\R.exe CMD INSTALL RnBeads StartedAt: 2025-02-10 17:02:40 -0500 (Mon, 10 Feb 2025) EndedAt: 2025-02-10 17:06:27 -0500 (Mon, 10 Feb 2025) EllapsedTime: 227.7 seconds RetCode: 0 Status: OK